BEGIN:VCALENDAR
VERSION:2.0
PRODID:-//eventon.com NONSGML v1.0//EN
CALSCALE:GREGORIAN
METHOD:PUBLISH
BEGIN:VEVENT
UID:69eb419e60eb1
DTSTAMP:20260424T101038Z
DTSTART:20230211T210000Z
DTEND:20230211T230000Z
LOCATION:
SUMMARY:Jair Bolsonaro em Boca Raton\,  FL.
DESCRIPTION:Grande encontro da comunidade brasileira do Sul da Flórida com
  o ex-presidente Jair Messias Bolsonaro em Boca Raton\,  FL na Church Of Al
 l Nations&nbsp;em um evento promovido pela Yes Brazil USA O quê: Palestra 
 de Jair Bolsonaro Quando: Sábado\,  11 de fevereiro\,  4 PM Onde: 1300 NW 
 4th Ave\,  Boca[..]\nhttps://acontece.com/events/jair-bolsonaro-em-boca-rat
 on-fl/
URL:https://acontece.com/events/jair-bolsonaro-em-boca-raton-fl/
END:VEVENT
END:VCALENDAR