BEGIN:VCALENDAR
VERSION:2.0
PRODID:-//eventon.com NONSGML v1.0//EN
CALSCALE:GREGORIAN
METHOD:PUBLISH
BEGIN:VEVENT
UID:69eb81d30c51d
DTSTAMP:20260424T144435Z
DTSTART:20230122T000000Z
DTEND:20230122T010000Z
LOCATION:Missão São Francisco Santa Clara 402 NE 29th St\,  Miami\,  FL 33137
SUMMARY:Missa e Benção das Motos e Motociclistas
DESCRIPTION:O Que: Missa e Benção das Motos e Motociclistas Quando: Sába
 do dia 21 de janeiro de 2023 as 7PM Onde: Missão São Francisco Santa Clar
 a &#8211; 402 NE 29th St\,  Miami\,  FL 33137 Que tal benzer a sua moto? No
  Sábado dia 21 de janeiro o Padre Edelson fará em[..]\nhttps://acontece.c
 om/events/missa-e-bencao-das-motos-e-motociclistas/
URL:https://acontece.com/events/missa-e-bencao-das-motos-e-motociclistas/
END:VEVENT
END:VCALENDAR