BEGIN:VCALENDAR
VERSION:2.0
PRODID:-//eventon.com NONSGML v1.0//EN
CALSCALE:GREGORIAN
METHOD:PUBLISH
BEGIN:VEVENT
UID:69e50d04aa307
DTSTAMP:20260419T171236Z
DTSTART:20240902
DTEND:20240903
LOCATION:Estados unidos da America - EUA
SUMMARY:Dia do trabalhador/Labor Day USA
DESCRIPTION:Celebrando o Labor Day nos EUA O Labor Day é um dos feriados m
 ais emblemáticos nos Estados Unidos\,  e estamos aqui para te contar tudo 
 sobre essa celebração que acontece&nbsp;anualmente. O Labor Day ocorre na
  primeira segunda-feira de setembro e é um dia dedicado a homenagear as co
 ntribuições e conquistas[..]\nhttps://acontece.com/events/dia-do-trabalha
 dor-labor-day/
URL:https://acontece.com/events/dia-do-trabalhador-labor-day/
END:VEVENT
END:VCALENDAR