BEGIN:VCALENDAR
VERSION:2.0
PRODID:-//eventon.com NONSGML v1.0//EN
CALSCALE:GREGORIAN
METHOD:PUBLISH
BEGIN:VEVENT
UID:69ebff72172b1
DTSTAMP:20260424T234034Z
DTSTART:20221119T013000Z
DTEND:20221118T063000Z
LOCATION:Viva Brazil Restaurant 1657 S 21st Ave\,  Hollywood\,  FL 33020
SUMMARY:Brazilian Party celebrando "Copa do Mundo 2022"
DESCRIPTION:Na sexta-feira dia 18 de novembro acontecerá uma grande celebr
 ação brasileira em Hollywood\,  FL ; a BRAZILIAN PARTY\,  em sua segunda 
 edição\,  desta vez celebrando a temporada da Copa do Mundo 2022\,  com D
 J Vlad + Johnny’s Band e muita animação! O QUE: BRAZILIAN PARTY &#8211;
  &#8220;Copa do Mundo 2022&#8221;[..]\nhttps://acontece.com/events/brazilia
 n-party-2a-edicao/
URL:https://acontece.com/events/brazilian-party-2a-edicao/
END:VEVENT
END:VCALENDAR