BEGIN:VCALENDAR
VERSION:2.0
PRODID:-//eventon.com NONSGML v1.0//EN
CALSCALE:GREGORIAN
METHOD:PUBLISH
BEGIN:VEVENT
UID:69e4d9c34f838
DTSTAMP:20260419T133355Z
DTSTART:20220821T210000Z
DTEND:20220822T090000Z
LOCATION:Moxy Hotel 915 Washington Ave\,  Miami Beach
SUMMARY:Samba Sunday no MOXY Hotel em Miami Beach
DESCRIPTION:Acontece no domingo dia 21 de agosto de 2022 a partir das 5PM o
  mais famoso encontro brasileiro en novo local \,  MOXY Hotel em Miami Beac
 h o Samba Sunday conhecida pela &#8220;boa vibração&#8221; gente bonita \
 ,  um tremendo visual da cidade alem de um espetacular por do Sol. Atraçõ
 es:[..]\nhttps://acontece.com/events/samba-sunday-no-moxy-hotel-em-miami-be
 ach/
URL:https://acontece.com/events/samba-sunday-no-moxy-hotel-em-miami-beach/
END:VEVENT
END:VCALENDAR