BEGIN:VCALENDAR
VERSION:2.0
PRODID:-//eventon.com NONSGML v1.0//EN
CALSCALE:GREGORIAN
METHOD:PUBLISH
BEGIN:VEVENT
UID:69e4ea73c14a7
DTSTAMP:20260419T144507Z
DTSTART:20220122
DTEND:20220123
LOCATION:North Miami 16090 NW 2ND AVE North Miami Florida
SUMMARY:Imersão Mulher Protagonista
DESCRIPTION:Imersão Mulher Protagonista\nhttps://acontece.com/events/imers
 ao-mulher-protagonista/
URL:https://acontece.com/events/imersao-mulher-protagonista/
END:VEVENT
END:VCALENDAR